BEGIN:VCALENDAR
VERSION:2.0
PRODID:-//The Cosmetic, Toiletry and Fragrance Association Of Singapore (CTFAS) - ECPv6.6.0.2//NONSGML v1.0//EN
CALSCALE:GREGORIAN
METHOD:PUBLISH
X-WR-CALNAME:The Cosmetic, Toiletry and Fragrance Association Of Singapore (CTFAS)
X-ORIGINAL-URL:https://ctfas.org
X-WR-CALDESC:Events for The Cosmetic, Toiletry and Fragrance Association Of Singapore (CTFAS)
REFRESH-INTERVAL;VALUE=DURATION:PT1H
X-Robots-Tag:noindex
X-PUBLISHED-TTL:PT1H
BEGIN:VTIMEZONE
TZID:Asia/Shanghai
BEGIN:STANDARD
TZOFFSETFROM:+0800
TZOFFSETTO:+0800
TZNAME:CST
DTSTART:20250101T000000
END:STANDARD
END:VTIMEZONE
BEGIN:VEVENT
DTSTART;TZID=Asia/Shanghai:20250627T120000
DTEND;TZID=Asia/Shanghai:20250627T170000
DTSTAMP:20260423T060813
CREATED:20250213T085347Z
LAST-MODIFIED:20250709T083105Z
UID:11505-1751025600-1751043600@ctfas.org
SUMMARY:🌱 CTFAS x Singapore Polytechnic Sustainability Learning Journey – Event Recap
DESCRIPTION:🌱 CTFAS x Singapore Polytechnic Sustainability Learning Journey – Event Recap \nOn Friday\, 27 June 2025\, members of CTFAS joined a specially curated Sustainability Learning Journey hosted by Singapore Polytechnic’s Centre for Environmental Sustainability and Energy Efficiency (ESEE). \nThe session provided practical insights into how sustainability can drive business transformation\, especially for SMEs. Participants explored frameworks to assess their sustainability readiness\, develop actionable decarbonization roadmaps\, and leverage SP’s sustainability training and solutions. \nPrior to the learning session\, attendees had the opportunity to connect with peers from across the industry\, including representatives from various companies\, fostering informal exchanges and collaboration. \nA big thank you to SP for hosting and to all who joined us in taking a step forward toward a more sustainable future! \n📸 View photos from the event below. \n \n \n         \n 
URL:https://ctfas.org/event/singapore-polytechnic-sustainability-learning-journey/
LOCATION:Singapore Polytechnic\, 500 Dover Rd\, Singapore\, Singapore\, 139651\, Singapore
CATEGORIES:Announcements
ATTACH;FMTTYPE=image/png:https://d24uej44bas2bd.cloudfront.net/wp-content/uploads/2025/02/13153523/SP_Sustainability-Learning-Journey_1.png
END:VEVENT
END:VCALENDAR