BEGIN:VCALENDAR
VERSION:2.0
PRODID:-//The Cosmetic, Toiletry and Fragrance Association Of Singapore (CTFAS) - ECPv6.6.0.2//NONSGML v1.0//EN
CALSCALE:GREGORIAN
METHOD:PUBLISH
X-WR-CALNAME:The Cosmetic, Toiletry and Fragrance Association Of Singapore (CTFAS)
X-ORIGINAL-URL:https://ctfas.org
X-WR-CALDESC:Events for The Cosmetic, Toiletry and Fragrance Association Of Singapore (CTFAS)
REFRESH-INTERVAL;VALUE=DURATION:PT1H
X-Robots-Tag:noindex
X-PUBLISHED-TTL:PT1H
BEGIN:VTIMEZONE
TZID:Asia/Shanghai
BEGIN:STANDARD
TZOFFSETFROM:+0800
TZOFFSETTO:+0800
TZNAME:CST
DTSTART:20260101T000000
END:STANDARD
END:VTIMEZONE
BEGIN:VEVENT
DTSTART;TZID=Asia/Shanghai:20260507T090000
DTEND;TZID=Asia/Shanghai:20260508T180000
DTSTAMP:20260424T133152
CREATED:20260424T044139Z
LAST-MODIFIED:20260424T044139Z
UID:12417-1778144400-1778263200@ctfas.org
SUMMARY:CTFAS x Singapore Polytechnic - Assessing Safety of Personal Care Products
DESCRIPTION:🚀 Ready to deepen your expertise in cosmetic product safety and risk assessment? \nJoin us for a 2-day Micro-Credential course designed to equip you with the critical skills needed in today’s personal care industry. \nThis programme is jointly offered by Singapore Polytechnic and The Cosmetic\, Toiletry & Fragrance Association of Singapore. \n✨ Why you should attend:\n– Learn from 6 amazing industry experts\n– Gain in-depth knowledge in hazard identification & risk assessment\n– Understand how to interpret toxicological data of cosmetic ingredients\n– Master the process of safety assessment for personal care products\n– Ensure compliance with safety and regulatory practices \nThis course provides valuable insights into risk assessment and risk management of human health\, helping you establish suitable product use conditions and confidently bring compliant products to market. \n👩🔬 Perfect for professionals of R&D\, Regulatory Affairs and Quality Management in the industry of cosmetics and personal care \nRegister now: https://lnkd.in/gFn-GEmY \n#CTFAS #Cosmetics #ProductSafetyAssessment #RiskAssessment #PersonalCare \n#RegulatoryCompliance #Singapore #ProfessionalDevelopment #Skillsfuture \n 
URL:https://ctfas.org/event/ctfas-x-singapore-polytechnic-assessing-safety-of-personal-care-products/
CATEGORIES:Announcements
END:VEVENT
END:VCALENDAR