BEGIN:VCALENDAR
VERSION:2.0
PRODID:-//The Cosmetic, Toiletry and Fragrance Association Of Singapore (CTFAS) - ECPv6.6.0.2//NONSGML v1.0//EN
CALSCALE:GREGORIAN
METHOD:PUBLISH
X-ORIGINAL-URL:https://ctfas.org
X-WR-CALDESC:Events for The Cosmetic, Toiletry and Fragrance Association Of Singapore (CTFAS)
REFRESH-INTERVAL;VALUE=DURATION:PT1H
X-Robots-Tag:noindex
X-PUBLISHED-TTL:PT1H
BEGIN:VTIMEZONE
TZID:Asia/Shanghai
BEGIN:STANDARD
TZOFFSETFROM:+0800
TZOFFSETTO:+0800
TZNAME:CST
DTSTART:20160101T000000
END:STANDARD
END:VTIMEZONE
BEGIN:VEVENT
DTSTART;VALUE=DATE:20160318
DTEND;VALUE=DATE:20160319
DTSTAMP:20260425T092153
CREATED:20160318T120019Z
LAST-MODIFIED:20240918T032337Z
UID:8191-1458259200-1458345599@ctfas.org
SUMMARY:CTFAS Dinner and Dance 2016 – The Great Gatsby
DESCRIPTION:
URL:https://ctfas.org/event/ctfas-dinner-and-dance-2016-the-great-gatsby/
LOCATION:Four Seasons Hotel\, 190 Orchard Blvd\, Singapore\, 248646\, Singapore
CATEGORIES:Dinner & Dance
ATTACH;FMTTYPE=image/jpeg:https://d24uej44bas2bd.cloudfront.net/wp-content/uploads/2024/09/17173119/DSC01187.jpg
ORGANIZER;CN="CTFAS":MAILTO:admin@ctfas.org
END:VEVENT
END:VCALENDAR