BEGIN:VCALENDAR
VERSION:2.0
PRODID:-//The Cosmetic, Toiletry and Fragrance Association Of Singapore (CTFAS) - ECPv6.6.0.2//NONSGML v1.0//EN
CALSCALE:GREGORIAN
METHOD:PUBLISH
X-WR-CALNAME:The Cosmetic, Toiletry and Fragrance Association Of Singapore (CTFAS)
X-ORIGINAL-URL:https://ctfas.org
X-WR-CALDESC:Events for The Cosmetic, Toiletry and Fragrance Association Of Singapore (CTFAS)
REFRESH-INTERVAL;VALUE=DURATION:PT1H
X-Robots-Tag:noindex
X-PUBLISHED-TTL:PT1H
BEGIN:VTIMEZONE
TZID:Asia/Shanghai
BEGIN:STANDARD
TZOFFSETFROM:+0800
TZOFFSETTO:+0800
TZNAME:CST
DTSTART:20240101T000000
END:STANDARD
END:VTIMEZONE
BEGIN:VEVENT
DTSTART;VALUE=DATE:20240417
DTEND;VALUE=DATE:20240418
DTSTAMP:20260424T092010
CREATED:20241127T023223Z
LAST-MODIFIED:20241210T055249Z
UID:9007-1713312000-1713398399@ctfas.org
SUMMARY:AGM 2024 & 1st Committee Meeting & Tea Talk with Nparks & Singapore Environment Council (SEC)
DESCRIPTION:On 17th Apr 2024\, we held our Annual General Meeting (AGM) alongside the 1st Committee Meeting of the year and a Tea Talk session at StoneForest. \nThe AGM provided an opportunity to reflect on the achievements of the past year and outline strategic plans for the upcoming term. This was followed by the inaugural Committee Meeting for 2024\, where key initiatives and goals were discussed. \nThe day concluded with an engaging Tea Talk featuring speakers from National Parks Singapore (NPARKS) and the Singapore Environment Council (SEC). Discussions centered on sustainability\, environmental conservation\, and collaborative opportunities\, leaving attendees inspired and informed. \nThe event was a productive start to the year\, fostering meaningful dialogue and setting the tone for impactful initiatives in 2024. \n 
URL:https://ctfas.org/event/agm-2024-1st-committee-meeting-tea-talk-with-nparks-singapore-environment-council-sec/
LOCATION:RSM Singapore\, 8 Wilkie Rd\, #03-08 Wilkie Edge\, Singapore\, 228095\, Singapore
CATEGORIES:AGM,EXCO Meeting,Tea Talk
ATTACH;FMTTYPE=image/jpeg:https://d24uej44bas2bd.cloudfront.net/wp-content/uploads/2024/12/10135323/AGM_2.jpeg
ORGANIZER;CN="CTFAS":MAILTO:admin@ctfas.org
END:VEVENT
END:VCALENDAR