BEGIN:VCALENDAR
VERSION:2.0
PRODID:-//The Cosmetic, Toiletry and Fragrance Association Of Singapore (CTFAS) - ECPv6.6.0.2//NONSGML v1.0//EN
CALSCALE:GREGORIAN
METHOD:PUBLISH
X-ORIGINAL-URL:https://ctfas.org
X-WR-CALDESC:Events for The Cosmetic, Toiletry and Fragrance Association Of Singapore (CTFAS)
REFRESH-INTERVAL;VALUE=DURATION:PT1H
X-Robots-Tag:noindex
X-PUBLISHED-TTL:PT1H
BEGIN:VTIMEZONE
TZID:Asia/Shanghai
BEGIN:STANDARD
TZOFFSETFROM:+0800
TZOFFSETTO:+0800
TZNAME:CST
DTSTART:20240101T000000
END:STANDARD
END:VTIMEZONE
BEGIN:VEVENT
DTSTART;VALUE=DATE:20240719
DTEND;VALUE=DATE:20240720
DTSTAMP:20260424T052405
CREATED:20240727T090055Z
LAST-MODIFIED:20241127T025953Z
UID:9033-1721347200-1721433599@ctfas.org
SUMMARY:2nd Committee Meeting for 2024
DESCRIPTION:The 2nd Committee Meeting for 2024 was held on 19th July at StoneForest. The meeting brought together committee members to review progress n key initiatives\, discuss upcoming events\, and strategize for the second half of the year. \nHighlights include updates on ongoing projects\, planning for future engagements\, and collaborative discussions to align on the association’s objectives. The meeting fostered productive exchanges and reinforced the committee’s commitment to driving impactful outcome for 2024.
URL:https://ctfas.org/event/2nd-committee-meeting-for-2024/
LOCATION:RSM Singapore\, 8 Wilkie Rd\, #03-08 Wilkie Edge\, Singapore\, 228095\, Singapore
CATEGORIES:EXCO Meeting
ORGANIZER;CN="CTFAS":MAILTO:admin@ctfas.org
END:VEVENT
END:VCALENDAR